 BEGIN:VCALENDAR
VERSION:1.0
PRODID:SSPCA Web Calendar
TZ:-07
BEGIN:VEVENT
ORGANIZER:MAILTO: Info@icbips.com
SUMMARY;ENCODING=QUOTED-PRINTABLE: ICBIPS Shanghai 2013 - International Conference on Business and IP Strategy 2013
LOCATION;ENCODING=QUOTED-PRINTABLE: Shanghai
DESCRIPTION;ENCODING=QUOTED-PRINTABLE: More Details£º=0D=0A
DTSTART:20131009T000000Z 
DTEND:20131010T000000Z 
END:VEVENT
END:VCALENDAR