 BEGIN:VCALENDAR
VERSION:1.0
PRODID:SSPCA Web Calendar
TZ:-07
BEGIN:VEVENT
ORGANIZER:MAILTO: reg@acmme.org 
SUMMARY;ENCODING=QUOTED-PRINTABLE: ACMME 2013 - 2013 Asia Conference on Mechanical and Material Engineering
LOCATION;ENCODING=QUOTED-PRINTABLE: Wuhan
DESCRIPTION;ENCODING=QUOTED-PRINTABLE: More Details£º=0D=0A
DTSTART:20131008T000000Z 
DTEND:20131009T000000Z 
END:VEVENT
END:VCALENDAR