 BEGIN:VCALENDAR
VERSION:1.0
PRODID:SSPCA Web Calendar
TZ:-07
BEGIN:VEVENT
ORGANIZER:MAILTO: aalpenia@redherring.com;
SUMMARY;ENCODING=QUOTED-PRINTABLE: 2013 Red Herring Asia Conference
LOCATION;ENCODING=QUOTED-PRINTABLE: Hong Kong
DESCRIPTION;ENCODING=QUOTED-PRINTABLE: More Details£º=0D=0Ahttp://test.chinaexhibition.com/trade_events/4397-2013_Red_Herring_Asia_Conference.html
DTSTART:20130903T000000Z 
DTEND:20130905T000000Z 
END:VEVENT
END:VCALENDAR