 BEGIN:VCALENDAR
VERSION:1.0
PRODID:SSPCA Web Calendar
TZ:-07
BEGIN:VEVENT
ORGANIZER:MAILTO: bjcoinexpo@163.com
SUMMARY;ENCODING=QUOTED-PRINTABLE: BICE 2013 - Beijing International Coin Exposition 2013
LOCATION;ENCODING=QUOTED-PRINTABLE: Beijing
DESCRIPTION;ENCODING=QUOTED-PRINTABLE: More Details£º=0D=0A
DTSTART:20131011T000000Z 
DTEND:20131013T000000Z 
END:VEVENT
END:VCALENDAR