 BEGIN:VCALENDAR
VERSION:1.0
PRODID:SSPCA Web Calendar
TZ:-07
BEGIN:VEVENT
ORGANIZER:MAILTO: Michelle.Hu@info-cma.org
SUMMARY;ENCODING=QUOTED-PRINTABLE: CIMIE 2013 - The 11th China International Meat Industry Exhibition 2013
LOCATION;ENCODING=QUOTED-PRINTABLE: Qingdao
DESCRIPTION;ENCODING=QUOTED-PRINTABLE: More Details£º=0D=0A
DTSTART:20131013T000000Z 
DTEND:20131015T000000Z 
END:VEVENT
END:VCALENDAR