 BEGIN:VCALENDAR
VERSION:1.0
PRODID:SSPCA Web Calendar
TZ:-07
BEGIN:VEVENT
ORGANIZER:MAILTO: wangling@szledia.org; xiejuan@szledia.org
SUMMARY;ENCODING=QUOTED-PRINTABLE: LED Show China 2013 - Shenzhen International LED Expo 2013
LOCATION;ENCODING=QUOTED-PRINTABLE: Shenzhen
DESCRIPTION;ENCODING=QUOTED-PRINTABLE: More Details£º=0D=0A
DTSTART:20130703T000000Z 
DTEND:20130705T000000Z 
END:VEVENT
END:VCALENDAR