 BEGIN:VCALENDAR
VERSION:1.0
PRODID:SSPCA Web Calendar
TZ:-07
BEGIN:VEVENT
ORGANIZER:MAILTO: u.briese@LM-international.com;j.muehler@LM-international.com
SUMMARY;ENCODING=QUOTED-PRINTABLE: CRSE 2013 - China International Rehabilitation and Special Equipment Expo 2013
LOCATION;ENCODING=QUOTED-PRINTABLE: Nanning
DESCRIPTION;ENCODING=QUOTED-PRINTABLE: More Details£º=0D=0A
DTSTART:20130901T000000Z 
DTEND:20130903T000000Z 
END:VEVENT
END:VCALENDAR