 BEGIN:VCALENDAR
VERSION:1.0
PRODID:SSPCA Web Calendar
TZ:-07
BEGIN:VEVENT
ORGANIZER:MAILTO: regina.tang@dpes.com.cn
SUMMARY;ENCODING=QUOTED-PRINTABLE: The 30th China Screen Print & Textile Print Expo
LOCATION;ENCODING=QUOTED-PRINTABLE: Guangzhou
DESCRIPTION;ENCODING=QUOTED-PRINTABLE: More Details£º=0D=0A
DTSTART:20130902T000000Z 
DTEND:20130904T000000Z 
END:VEVENT
END:VCALENDAR