 BEGIN:VCALENDAR
VERSION:1.0
PRODID:SSPCA Web Calendar
TZ:-07
BEGIN:VEVENT
ORGANIZER:MAILTO: ian.qu77@gmail.com;anna.liu@dxce.net;edu@dxce.com
SUMMARY;ENCODING=QUOTED-PRINTABLE: CLIEE 2013 - The 14th China (Liaoning) International Education Exhibition 2013
LOCATION;ENCODING=QUOTED-PRINTABLE: Shenyang
DESCRIPTION;ENCODING=QUOTED-PRINTABLE: More Details£º=0D=0A
DTSTART:20130706T000000Z 
DTEND:20130707T000000Z 
END:VEVENT
END:VCALENDAR