 BEGIN:VCALENDAR
VERSION:1.0
PRODID:SSPCA Web Calendar
TZ:-07
BEGIN:VEVENT
ORGANIZER:MAILTO: sales@aaifair.com
SUMMARY;ENCODING=QUOTED-PRINTABLE: Fine Art Asia 2013
LOCATION;ENCODING=QUOTED-PRINTABLE: Hong Kong
DESCRIPTION;ENCODING=QUOTED-PRINTABLE: More Details£º=0D=0Ahttp://test.chinaexhibition.com/trade_events/3993-Fine_Art_Asia_2013.html
DTSTART:20131004T000000Z 
DTEND:20131007T000000Z 
END:VEVENT
END:VCALENDAR