 BEGIN:VCALENDAR
VERSION:1.0
PRODID:SSPCA Web Calendar
TZ:-07
BEGIN:VEVENT
ORGANIZER:MAILTO: Dora@wcm-bitcongress.com
SUMMARY;ENCODING=QUOTED-PRINTABLE: WCM 2013 - BIT's 3rd Annual World Congress of Microbes 2013
LOCATION;ENCODING=QUOTED-PRINTABLE: Wuhan
DESCRIPTION;ENCODING=QUOTED-PRINTABLE: More Details£º=0D=0A
DTSTART:20130730T000000Z 
DTEND:20130801T000000Z 
END:VEVENT
END:VCALENDAR