 BEGIN:VCALENDAR
VERSION:1.0
PRODID:SSPCA Web Calendar
TZ:-07
BEGIN:VEVENT
ORGANIZER:MAILTO: manmitha.srinivasan@terrapinn.com
SUMMARY;ENCODING=QUOTED-PRINTABLE: Emerging Managers Forum Asia 2013
LOCATION;ENCODING=QUOTED-PRINTABLE: Hong Kong
DESCRIPTION;ENCODING=QUOTED-PRINTABLE: More Details£º=0D=0Ahttp://test.chinaexhibition.com/trade_events/3908-Emerging_Managers_Forum_Asia_2013.html
DTSTART:20130903T000000Z 
DTEND:20130903T000000Z 
END:VEVENT
END:VCALENDAR