 BEGIN:VCALENDAR
VERSION:1.0
PRODID:SSPCA Web Calendar
TZ:-07
BEGIN:VEVENT
ORGANIZER:MAILTO: lee@bitlifesciences.com
SUMMARY;ENCODING=QUOTED-PRINTABLE: GCC 2013 - BIT's 4th Annual World Congress of Catalysis 2013
LOCATION;ENCODING=QUOTED-PRINTABLE: Dalian
DESCRIPTION;ENCODING=QUOTED-PRINTABLE: More Details£º=0D=0A
DTSTART:20130629T000000Z 
DTEND:20130701T000000Z 
END:VEVENT
END:VCALENDAR