 BEGIN:VCALENDAR
VERSION:1.0
PRODID:SSPCA Web Calendar
TZ:-07
BEGIN:VEVENT
ORGANIZER:MAILTO: TCFB@taitra.org.tw
SUMMARY;ENCODING=QUOTED-PRINTABLE: TeaCoS 2013 - Taichung International Tea & Coffee Show 2013
LOCATION;ENCODING=QUOTED-PRINTABLE: Taichung
DESCRIPTION;ENCODING=QUOTED-PRINTABLE: More Details£º=0D=0A
DTSTART:20130802T000000Z 
DTEND:20130805T000000Z 
END:VEVENT
END:VCALENDAR