 BEGIN:VCALENDAR
VERSION:1.0
PRODID:SSPCA Web Calendar
TZ:-07
BEGIN:VEVENT
ORGANIZER:MAILTO: information_bj@163.com;brianbao2013@vip.163.com
SUMMARY;ENCODING=QUOTED-PRINTABLE: CIME 2013  - China International Mining Expo 2013
LOCATION;ENCODING=QUOTED-PRINTABLE: Beijing
DESCRIPTION;ENCODING=QUOTED-PRINTABLE: More Details£º=0D=0A
DTSTART:20130904T000000Z 
DTEND:20130906T000000Z 
END:VEVENT
END:VCALENDAR