 BEGIN:VCALENDAR
VERSION:1.0
PRODID:SSPCA Web Calendar
TZ:-07
BEGIN:VEVENT
ORGANIZER:MAILTO: visit@chinasourcingfair.com; exhibit@chinasourcingfair.com
SUMMARY;ENCODING=QUOTED-PRINTABLE: 2013 China Sourcing Fair: Security Products (October)
LOCATION;ENCODING=QUOTED-PRINTABLE: Hong Kong
DESCRIPTION;ENCODING=QUOTED-PRINTABLE: More Details£º=0D=0A
DTSTART:20131012T000000Z 
DTEND:20131015T000000Z 
END:VEVENT
END:VCALENDAR