 BEGIN:VCALENDAR
VERSION:1.0
PRODID:SSPCA Web Calendar
TZ:-07
BEGIN:VEVENT
ORGANIZER:MAILTO: micamsh@hmf-china.com
SUMMARY;ENCODING=QUOTED-PRINTABLE: MICAM Shanghai 2013 (Autumn)
LOCATION;ENCODING=QUOTED-PRINTABLE: Shanghai
DESCRIPTION;ENCODING=QUOTED-PRINTABLE: More Details£º=0D=0Ahttp://test.chinaexhibition.com/trade_events/3747-MICAM_Shanghai_2013_(Autumn).html
DTSTART:20131011T000000Z 
DTEND:20131013T000000Z 
END:VEVENT
END:VCALENDAR