 BEGIN:VCALENDAR
VERSION:1.0
PRODID:SSPCA Web Calendar
TZ:-07
BEGIN:VEVENT
ORGANIZER:MAILTO: adc2013@swiretravel.com
SUMMARY;ENCODING=QUOTED-PRINTABLE: ADC 2013 - The 9th Asian Dermatological Congress
LOCATION;ENCODING=QUOTED-PRINTABLE: Hong Kong
DESCRIPTION;ENCODING=QUOTED-PRINTABLE: More Details£º=0D=0A
DTSTART:20130710T000000Z 
DTEND:20130713T000000Z 
END:VEVENT
END:VCALENDAR