 BEGIN:VCALENDAR
VERSION:1.0
PRODID:SSPCA Web Calendar
TZ:-07
BEGIN:VEVENT
ORGANIZER:MAILTO: iccpm@iedrc.org  
SUMMARY;ENCODING=QUOTED-PRINTABLE: ICCPM 2013 - The 4th International Conference on Construction and Project Management
LOCATION;ENCODING=QUOTED-PRINTABLE: Beijing
DESCRIPTION;ENCODING=QUOTED-PRINTABLE: More Details£º=0D=0A
DTSTART:20130901T000000Z 
DTEND:20130902T000000Z 
END:VEVENT
END:VCALENDAR