 BEGIN:VCALENDAR
VERSION:1.0
PRODID:SSPCA Web Calendar
TZ:-07
BEGIN:VEVENT
ORGANIZER:MAILTO: liyang@hippotac.com.cn
SUMMARY;ENCODING=QUOTED-PRINTABLE: The 3rd Tianjin Quality Living Expo
LOCATION;ENCODING=QUOTED-PRINTABLE: Tianjin
DESCRIPTION;ENCODING=QUOTED-PRINTABLE: More Details£º=0D=0Ahttp://test.chinaexhibition.com/trade_events/3598-The_3rd_Tianjin_Quality_Living_Expo.html
DTSTART:20131001T000000Z 
DTEND:20131006T000000Z 
END:VEVENT
END:VCALENDAR