 BEGIN:VCALENDAR
VERSION:1.0
PRODID:SSPCA Web Calendar
TZ:-07
BEGIN:VEVENT
ORGANIZER:MAILTO: siaaf@reedhongda.com;lilian.dong@reedexpo.com.cn
SUMMARY;ENCODING=QUOTED-PRINTABLE: SIAAF 2013 - Shanghai International Automotive Aftermarket Fair 2013
LOCATION;ENCODING=QUOTED-PRINTABLE: Shanghai
DESCRIPTION;ENCODING=QUOTED-PRINTABLE: More Details£º=0D=0A
DTSTART:20131010T000000Z 
DTEND:20131012T000000Z 
END:VEVENT
END:VCALENDAR