 BEGIN:VCALENDAR
VERSION:1.0
PRODID:SSPCA Web Calendar
TZ:-07
BEGIN:VEVENT
ORGANIZER:MAILTO: enquiry@shixinlamp.com
SUMMARY;ENCODING=QUOTED-PRINTABLE: Leman China 2013 - Leman China Swine Conference 2013
LOCATION;ENCODING=QUOTED-PRINTABLE: Xi'an
DESCRIPTION;ENCODING=QUOTED-PRINTABLE: More Details£º=0D=0A
DTSTART:20131013T000000Z 
DTEND:20131015T000000Z 
END:VEVENT
END:VCALENDAR