 BEGIN:VCALENDAR
VERSION:1.0
PRODID:SSPCA Web Calendar
TZ:-07
BEGIN:VEVENT
ORGANIZER:MAILTO: Cathy@bitlifesciences.com
SUMMARY;ENCODING=QUOTED-PRINTABLE: ICGO 2013 - BIT's 2nd International Congress of Gynaecology and Obstetrics
LOCATION;ENCODING=QUOTED-PRINTABLE: Dalian
DESCRIPTION;ENCODING=QUOTED-PRINTABLE: More Details£º=0D=0A
DTSTART:20131012T000000Z 
DTEND:20131014T000000Z 
END:VEVENT
END:VCALENDAR