 BEGIN:VCALENDAR
VERSION:1.0
PRODID:SSPCA Web Calendar
TZ:-07
BEGIN:VEVENT
ORGANIZER:MAILTO: cleanexpo@126.com;
SUMMARY;ENCODING=QUOTED-PRINTABLE: CICIE 2013 - The 3rd China International Cleaning Industry Expo 2013
LOCATION;ENCODING=QUOTED-PRINTABLE: Beijing
DESCRIPTION;ENCODING=QUOTED-PRINTABLE: More Details£º=0D=0A
DTSTART:20130801T000000Z 
DTEND:20130803T000000Z 
END:VEVENT
END:VCALENDAR