 BEGIN:VCALENDAR
VERSION:1.0
PRODID:SSPCA Web Calendar
TZ:-07
BEGIN:VEVENT
ORGANIZER:MAILTO: kim.yang@gehuaexpo.com;
SUMMARY;ENCODING=QUOTED-PRINTABLE: SIFSE 2013 - The 8th Shanghai International Fisheries & Seafood Exposition
LOCATION;ENCODING=QUOTED-PRINTABLE: Shanghai
DESCRIPTION;ENCODING=QUOTED-PRINTABLE: More Details£º=0D=0A
DTSTART:20131010T000000Z 
DTEND:20131012T000000Z 
END:VEVENT
END:VCALENDAR