 BEGIN:VCALENDAR
VERSION:1.0
PRODID:SSPCA Web Calendar
TZ:-07
BEGIN:VEVENT
ORGANIZER:MAILTO: hosfair@hosfair.com
SUMMARY;ENCODING=QUOTED-PRINTABLE: HOSFAIR 2013 - The 2nd Shenzhen International Hospitality Equipment & Supplies Fair
LOCATION;ENCODING=QUOTED-PRINTABLE: Shenzhen
DESCRIPTION;ENCODING=QUOTED-PRINTABLE: More Details£º=0D=0A
DTSTART:20131014T000000Z 
DTEND:20131016T000000Z 
END:VEVENT
END:VCALENDAR