 BEGIN:VCALENDAR
VERSION:1.0
PRODID:SSPCA Web Calendar
TZ:-07
BEGIN:VEVENT
ORGANIZER:MAILTO: clam@beaconevents.com;
SUMMARY;ENCODING=QUOTED-PRINTABLE: Mongolia Investment Summit 2013
LOCATION;ENCODING=QUOTED-PRINTABLE: Hong Kong
DESCRIPTION;ENCODING=QUOTED-PRINTABLE: More Details£º=0D=0Ahttp://test.chinaexhibition.com/trade_events/3139-Mongolia_Investment_Summit_2013.html
DTSTART:20131009T000000Z 
DTEND:20131010T000000Z 
END:VEVENT
END:VCALENDAR