 BEGIN:VCALENDAR
VERSION:1.0
PRODID:SSPCA Web Calendar
TZ:-07
BEGIN:VEVENT
ORGANIZER:MAILTO: info@vffair.com
SUMMARY;ENCODING=QUOTED-PRINTABLE: CXIVFF 2013 - The 5th China Xiamen International Vegetarian Food Fair
LOCATION;ENCODING=QUOTED-PRINTABLE: Xiamen
DESCRIPTION;ENCODING=QUOTED-PRINTABLE: More Details£º=0D=0A
DTSTART:20131010T000000Z 
DTEND:20131013T000000Z 
END:VEVENT
END:VCALENDAR