 BEGIN:VCALENDAR
VERSION:1.0
PRODID:SSPCA Web Calendar
TZ:-07
BEGIN:VEVENT
ORGANIZER:MAILTO: info@lp-showcase.com;
SUMMARY;ENCODING=QUOTED-PRINTABLE: LPS Beijing 2013 - The Luxury Properties Showcase Beijing 2013
LOCATION;ENCODING=QUOTED-PRINTABLE: Beijing
DESCRIPTION;ENCODING=QUOTED-PRINTABLE: More Details£º=0D=0A
DTSTART:20130531T000000Z 
DTEND:20130602T000000Z 
END:VEVENT
END:VCALENDAR