 BEGIN:VCALENDAR
VERSION:1.0
PRODID:SSPCA Web Calendar
TZ:-07
BEGIN:VEVENT
ORGANIZER:MAILTO: info@asiafruitcongress.com;
SUMMARY;ENCODING=QUOTED-PRINTABLE: Asiafruit Congress 2013
LOCATION;ENCODING=QUOTED-PRINTABLE: Hong Kong
DESCRIPTION;ENCODING=QUOTED-PRINTABLE: More Details£º=0D=0Ahttp://test.chinaexhibition.com/trade_events/2938-Asiafruit_Congress_2013.html
DTSTART:20130904T000000Z 
DTEND:20130906T000000Z 
END:VEVENT
END:VCALENDAR