 BEGIN:VCALENDAR
VERSION:1.0
PRODID:SSPCA Web Calendar
TZ:-07
BEGIN:VEVENT
ORGANIZER:MAILTO: xiong.julia@gz.china.ahk.de;
SUMMARY;ENCODING=QUOTED-PRINTABLE: ASIA FRUIT LOGISTICA 2013
LOCATION;ENCODING=QUOTED-PRINTABLE: Hong Kong
DESCRIPTION;ENCODING=QUOTED-PRINTABLE: More Details£º=0D=0Ahttp://test.chinaexhibition.com/trade_events/2937-ASIA_FRUIT_LOGISTICA_2013.html
DTSTART:20130904T000000Z 
DTEND:20130906T000000Z 
END:VEVENT
END:VCALENDAR