 BEGIN:VCALENDAR
VERSION:1.0
PRODID:SSPCA Web Calendar
TZ:-07
BEGIN:VEVENT
ORGANIZER:MAILTO: exhibitions@hktdc.org;
SUMMARY;ENCODING=QUOTED-PRINTABLE: Hong Kong Electronics Fair (Autumn Edition) 2013
LOCATION;ENCODING=QUOTED-PRINTABLE: Hong Kong
DESCRIPTION;ENCODING=QUOTED-PRINTABLE: More Details£º=0D=0A
DTSTART:20131013T000000Z 
DTEND:20131016T000000Z 
END:VEVENT
END:VCALENDAR