 BEGIN:VCALENDAR
VERSION:1.0
PRODID:SSPCA Web Calendar
TZ:-07
BEGIN:VEVENT
ORGANIZER:MAILTO: intexrxx@sh163.net;
SUMMARY;ENCODING=QUOTED-PRINTABLE: Music China 2013
LOCATION;ENCODING=QUOTED-PRINTABLE: Shanghai
DESCRIPTION;ENCODING=QUOTED-PRINTABLE: More Details£º=0D=0Ahttp://test.chinaexhibition.com/trade_events/2925-Music_China_2013.html
DTSTART:20131010T000000Z 
DTEND:20131013T000000Z 
END:VEVENT
END:VCALENDAR