 BEGIN:VCALENDAR
VERSION:1.0
PRODID:SSPCA Web Calendar
TZ:-07
BEGIN:VEVENT
ORGANIZER:MAILTO: applas@applas.com
SUMMARY;ENCODING=QUOTED-PRINTABLE: APPLAS 2013 - The 13th Asian-Pacific International Plastics & Rubber Industry Exhibition
LOCATION;ENCODING=QUOTED-PRINTABLE: Shanghai
DESCRIPTION;ENCODING=QUOTED-PRINTABLE: More Details£º=0D=0A
DTSTART:20130903T000000Z 
DTEND:20130906T000000Z 
END:VEVENT
END:VCALENDAR