 BEGIN:VCALENDAR
VERSION:1.0
PRODID:SSPCA Web Calendar
TZ:-07
BEGIN:VEVENT
ORGANIZER:MAILTO: yangyujia@bibf.net
SUMMARY;ENCODING=QUOTED-PRINTABLE: BIBF 2013 - The 20th Beijing International Book Fair
LOCATION;ENCODING=QUOTED-PRINTABLE: Beijing
DESCRIPTION;ENCODING=QUOTED-PRINTABLE: More Details£º=0D=0A
DTSTART:20130828T000000Z 
DTEND:20130901T000000Z 
END:VEVENT
END:VCALENDAR