 BEGIN:VCALENDAR
VERSION:1.0
PRODID:SSPCA Web Calendar
TZ:-07
BEGIN:VEVENT
ORGANIZER:MAILTO: ilam@divevents.com.hk
SUMMARY;ENCODING=QUOTED-PRINTABLE: ASE 2013 - The 4th Asian Seafood Exposition 2013
LOCATION;ENCODING=QUOTED-PRINTABLE: Hong Kong
DESCRIPTION;ENCODING=QUOTED-PRINTABLE: More Details£º=0D=0A
DTSTART:20130903T000000Z 
DTEND:20130905T000000Z 
END:VEVENT
END:VCALENDAR