 BEGIN:VCALENDAR
VERSION:1.0
PRODID:SSPCA Web Calendar
TZ:-07
BEGIN:VEVENT
ORGANIZER:MAILTO: shellyshi3@hotmail.com; 
SUMMARY;ENCODING=QUOTED-PRINTABLE: SILE 2013 - Shanghai International Lighting Expo 2013
LOCATION;ENCODING=QUOTED-PRINTABLE: Shanghai
DESCRIPTION;ENCODING=QUOTED-PRINTABLE: More Details£º=0D=0A
DTSTART:20130710T000000Z 
DTEND:20130713T000000Z 
END:VEVENT
END:VCALENDAR