 BEGIN:VCALENDAR
VERSION:1.0
PRODID:SSPCA Web Calendar
TZ:-07
BEGIN:VEVENT
ORGANIZER:MAILTO: angel.leung@hktdc.org; 
SUMMARY;ENCODING=QUOTED-PRINTABLE: TeaFair 2013 - Hong Kong International Tea Fair 2013
LOCATION;ENCODING=QUOTED-PRINTABLE: Hong Kong
DESCRIPTION;ENCODING=QUOTED-PRINTABLE: More Details£º=0D=0A
DTSTART:20130815T000000Z 
DTEND:20130817T000000Z 
END:VEVENT
END:VCALENDAR