 BEGIN:VCALENDAR
VERSION:1.0
PRODID:SSPCA Web Calendar
TZ:-07
BEGIN:VEVENT
ORGANIZER:MAILTO: 474425312@qq.com; 
SUMMARY;ENCODING=QUOTED-PRINTABLE: CXIAF 2013 - The 13th Xinjiang International Agriculture Fair
LOCATION;ENCODING=QUOTED-PRINTABLE: Urumqi
DESCRIPTION;ENCODING=QUOTED-PRINTABLE: More Details£º=0D=0A
DTSTART:20130814T000000Z 
DTEND:20130816T000000Z 
END:VEVENT
END:VCALENDAR