 BEGIN:VCALENDAR
VERSION:1.0
PRODID:SSPCA Web Calendar
TZ:-07
BEGIN:VEVENT
ORGANIZER:MAILTO: leeyoung@nfexpo.com
SUMMARY;ENCODING=QUOTED-PRINTABLE: Asia Bike Trade Show 2013
LOCATION;ENCODING=QUOTED-PRINTABLE: Nanjing
DESCRIPTION;ENCODING=QUOTED-PRINTABLE: More Details£º=0D=0Ahttp://test.chinaexhibition.com/trade_events/2688-Asia_Bike_Trade_Show_2013.html
DTSTART:20131010T000000Z 
DTEND:20131013T000000Z 
END:VEVENT
END:VCALENDAR