 BEGIN:VCALENDAR
VERSION:1.0
PRODID:SSPCA Web Calendar
TZ:-07
BEGIN:VEVENT
ORGANIZER:MAILTO: portable@elexcon.com; Ads@elexcon.com; ronvy.zhu@elexcon.com; 
SUMMARY;ENCODING=QUOTED-PRINTABLE: Portable Innovate 2013
LOCATION;ENCODING=QUOTED-PRINTABLE: Shenzhen
DESCRIPTION;ENCODING=QUOTED-PRINTABLE: More Details£º=0D=0Ahttp://test.chinaexhibition.com/trade_events/2682-Portable_Innovate_2013.html
DTSTART:20130801T000000Z 
DTEND:20130803T000000Z 
END:VEVENT
END:VCALENDAR