 BEGIN:VCALENDAR
VERSION:1.0
PRODID:SSPCA Web Calendar
TZ:-07
BEGIN:VEVENT
ORGANIZER:MAILTO: zhuxd@topwinechina.cn
SUMMARY;ENCODING=QUOTED-PRINTABLE: TWC 2013 Beijing - TopWine China 2013 Beijing
LOCATION;ENCODING=QUOTED-PRINTABLE: Beijing
DESCRIPTION;ENCODING=QUOTED-PRINTABLE: More Details£º=0D=0A
DTSTART:20130604T000000Z 
DTEND:20130606T000000Z 
END:VEVENT
END:VCALENDAR