 BEGIN:VCALENDAR
VERSION:1.0
PRODID:SSPCA Web Calendar
TZ:-07
BEGIN:VEVENT
ORGANIZER:MAILTO: guochao@sportshow.com.cn; zhangmei@sportshow.com.cn
SUMMARY;ENCODING=QUOTED-PRINTABLE: China Sport Show 2013 - The 31st China Sport Show
LOCATION;ENCODING=QUOTED-PRINTABLE: Beijing
DESCRIPTION;ENCODING=QUOTED-PRINTABLE: More Details£º=0D=0A
DTSTART:20130531T000000Z 
DTEND:20130603T000000Z 
END:VEVENT
END:VCALENDAR