 BEGIN:VCALENDAR
VERSION:1.0
PRODID:SSPCA Web Calendar
TZ:-07
BEGIN:VEVENT
ORGANIZER:MAILTO: cslsc@donnor.com
SUMMARY;ENCODING=QUOTED-PRINTABLE: WOF 2013 - The 11th Wenzhou International Optics Fair
LOCATION;ENCODING=QUOTED-PRINTABLE: Wenzhou
DESCRIPTION;ENCODING=QUOTED-PRINTABLE: More Details£º=0D=0A
DTSTART:20130710T000000Z 
DTEND:20130712T000000Z 
END:VEVENT
END:VCALENDAR