 BEGIN:VCALENDAR
VERSION:1.0
PRODID:SSPCA Web Calendar
TZ:-07
BEGIN:VEVENT
ORGANIZER:MAILTO: shenshi@21expo.net
SUMMARY;ENCODING=QUOTED-PRINTABLE: MTM Expo 2013 - The 17th Shanghai Metallurgy Expo
LOCATION;ENCODING=QUOTED-PRINTABLE: Shanghai
DESCRIPTION;ENCODING=QUOTED-PRINTABLE: More Details£º=0D=0A
DTSTART:20130604T000000Z 
DTEND:20130606T000000Z 
END:VEVENT
END:VCALENDAR