 BEGIN:VCALENDAR
VERSION:1.0
PRODID:SSPCA Web Calendar
TZ:-07
BEGIN:VEVENT
ORGANIZER:MAILTO: TAITRONICS@taitra.org.tw
SUMMARY;ENCODING=QUOTED-PRINTABLE: Broadband Taiwan 2013
LOCATION;ENCODING=QUOTED-PRINTABLE: Taipei
DESCRIPTION;ENCODING=QUOTED-PRINTABLE: More Details£º=0D=0Ahttp://test.chinaexhibition.com/trade_events/2162-Broadband_Taiwan_2013.html
DTSTART:20131008T000000Z 
DTEND:20131011T000000Z 
END:VEVENT
END:VCALENDAR