 BEGIN:VCALENDAR
VERSION:1.0
PRODID:SSPCA Web Calendar
TZ:-07
BEGIN:VEVENT
ORGANIZER:MAILTO: taitronics@taitra.org.tw
SUMMARY;ENCODING=QUOTED-PRINTABLE: Taitronics 2013 - The 39th Taipei International Electronics Show
LOCATION;ENCODING=QUOTED-PRINTABLE: Taipei
DESCRIPTION;ENCODING=QUOTED-PRINTABLE: More Details£º=0D=0A
DTSTART:20131008T000000Z 
DTEND:20131011T000000Z 
END:VEVENT
END:VCALENDAR